BEGIN:VCALENDAR
VERSION:2.0
PRODID:-//bgc1876.com - ECPv6.15.10//NONSGML v1.0//EN
CALSCALE:GREGORIAN
METHOD:PUBLISH
X-ORIGINAL-URL:https://bgc1876.com
X-WR-CALDESC:Events for bgc1876.com
REFRESH-INTERVAL;VALUE=DURATION:PT1H
X-Robots-Tag:noindex
X-PUBLISHED-TTL:PT1H
BEGIN:VTIMEZONE
TZID:UTC
BEGIN:STANDARD
TZOFFSETFROM:+0000
TZOFFSETTO:+0000
TZNAME:UTC
DTSTART:20240101T000000
END:STANDARD
END:VTIMEZONE
BEGIN:VEVENT
DTSTART;VALUE=DATE:20250808
DTEND;VALUE=DATE:20250809
DTSTAMP:20260421T191525
CREATED:20251104T122455Z
LAST-MODIFIED:20251104T122455Z
UID:3758-1754611200-1754697599@bgc1876.com
SUMMARY:KUDLA CHARITY GOLF TOURNAMENT
DESCRIPTION:
URL:https://bgc1876.com/tournament-2025/kudla-charity-golf-tournament/
CATEGORIES:STROKE PLAY TEAM
END:VEVENT
BEGIN:VEVENT
DTSTART;VALUE=DATE:20250802
DTEND;VALUE=DATE:20250803
DTSTAMP:20260421T191525
CREATED:20251104T121942Z
LAST-MODIFIED:20251104T121942Z
UID:3754-1754092800-1754179199@bgc1876.com
SUMMARY:JUSTICE SUBRAMANYA IYER CUP
DESCRIPTION:
URL:https://bgc1876.com/tournament-2025/justice-subramanya-iyer-cup-2/
CATEGORIES:STROKE PLAY TEAM
END:VEVENT
BEGIN:VEVENT
DTSTART;VALUE=DATE:20250801
DTEND;VALUE=DATE:20250802
DTSTAMP:20260421T191525
CREATED:20251104T121736Z
LAST-MODIFIED:20251104T121852Z
UID:3752-1754006400-1754092799@bgc1876.com
SUMMARY:JUSTICE SUBRAMANYA IYER CUP
DESCRIPTION:
URL:https://bgc1876.com/tournament-2025/justice-subramanya-iyer-cup/
CATEGORIES:STROKE PLAY TEAM
END:VEVENT
END:VCALENDAR